Workbook
Name CCandZone: 'Entry sheet'!$J$2
Name CountryCode: 'Entry sheet'!$F$2
Name CountryCodes: 'Grid and variables'!$N$10:$P$38
Name CountryIndex: 'Entry sheet'!$E$2
Name CountryZone: 'Entry sheet'!$I$2
Name DeliveryPlace: 'Entry sheet'!$AB$32
Name Documentation: 'Grid and variables'!$A$267:$C$381
Name Exportdiscount: 'discount sheet'!$B$32
Name ExportDiscountTable: 'discount sheet'!$B$3:$AD$30
Name HazSurcharge: 'Entry sheet'!$H$2
Name ImpExp: 'Entry sheet'!$Q$2
Name ImportDiscount: 'discount sheet'!$B$66
Name ImportDiscountTable: 'discount sheet'!$B$37:$AD$64
Name Maut: 'Entry sheet'!$G$2
Name MautandHaz: 'Grid and variables'!$A$237:$D$265
Name TariffTable: 'tariff grid'!$B$2:$DY$29
Name UKZones: 'Grid and variables'!$F$249:$G$372
Name weightband: 'Entry sheet'!$W$29:$Y$56
Name ZoneAllocation: 'Grid and variables'!$A$2:$L$116
Name ZoneAllocationImport: 'Grid and variables'!$A$119:$L$233

Sheet Grid and variables
A1: Zone | B1: Postcodes | C1: 201 | D1: 202 | E1: 203 | F1: 204 | G1: 205 | H1: 206 | I1: 207 | J1: 208 | K1: 209 | L1: country
A2: A1 | B2: 10 - 25, 40 - 47, 50 - 54, 60 - 62 | C2: 24 | D2: 26 | E2: 28 | F2: 30 | G2: 33 | H2: 36 | I2: 39 | J2: 42 | K2: 47 | L2: Austria | N2: 1 | O2: ='Entry sheet'!$F$2&'Grid and variables'!N2 -> B1 | P2: =VLOOKUP(O2,$A$2:$B$116,2,FALSE) -> 10 - 49, 70 - 99 | Q2: =O2&" Postcodes "&P2 -> B1 Postcodes 10 - 49, 70 - 99 | T2: =+IF(ISERROR(P2),"",Q2) -> B1 Postcodes 10 - 49, 70 - 99
A3: A2 | B3: 26 - 39, 48 - 49, 55 - 57, 63 - 73, 80 - 85, 90 - 95 | C3: 30 | D3: 32 | E3: 34 | F3: 36 | G3: 39 | H3: 42 | I3: 45 | J3: 48 | K3: 53 | L3: Austria | N3: 2 | O3: ='Entry sheet'!$F$2&'Grid and variables'!N3 -> B2 | P3: =VLOOKUP(O3,$A$2:$B$116,2,FALSE) -> 50 - 69 | Q3: =O3&" Postcodes "&P3 -> B2 Postcodes 50 - 69 | T3: =+IF(ISERROR(P3),"",Q3) -> B2 Postcodes 50 - 69
A4: A3 | B4: 74 - 79, 86 - 89, 96 - 99 | C4: 32 | D4: 34 | E4: 36 | F4: 38 | G4: 41 | H4: 44 | I4: 47 | J4: 50 | K4: 55 | L4: Austria | N4: 3 | O4: ='Entry sheet'!$F$2&'Grid and variables'!N4 -> B3 | P4: =VLOOKUP(O4,$A$2:$B$116,2,FALSE) -> #N/A | Q4: =O4&" Postcodes "&P4 -> #N/A | T4: =+IF(ISERROR(P4),"",Q4)
A5: B1 | B5: 10 - 49, 70 - 99 | C5: 2 | D5: 4 | E5: 6 | F5: 8 | G5: 11 | H5: 14 | I5: 17 | J5: 20 | K5: 25 | L5: Belgium | N5: 4 | O5: ='Entry sheet'!$F$2&'Grid and variables'!N5 -> B4 | P5: =VLOOKUP(O5,$A$2:$B$116,2,FALSE) -> #N/A | Q5: =O5&" Postcodes "&P5 -> #N/A | T5: =+IF(ISERROR(P5),"",Q5)
A6: B2 | B6: 50 - 69 | C6: 4 | D6: 6 | E6: 8 | F6: 10 | G6: 13 | H6: 16 | I6: 19 | J6: 22 | K6: 27 | L6: Belgium | N6: 5 | O6: ='Entry sheet'!$F$2&'Grid and variables'!N6 -> B5 | P6: =VLOOKUP(O6,$A$2:$B$116,2,FALSE) -> #N/A | Q6: =O6&" Postcodes "&P6 -> #N/A | T6: =+IF(ISERROR(P6),"",Q6)
A7: BG1 | B7: 10 - 19, 23 | C7: 88 | D7: 90 | E7: 92 | F7: 94 | G7: 97 | H7: 100 | I7: 103 | J7: 106 | K7: 111 | L7: Bulgaria | N7: 6 | O7: ='Entry sheet'!$F$2&'Grid and variables'!N7 -> B6 | P7: =VLOOKUP(O7,$A$2:$B$116,2,FALSE) -> #N/A | Q7: =O7&" Postcodes "&P7 -> #N/A | T7: =+IF(ISERROR(P7),"",Q7)
A8: BG2 | B8: 20 - 22, 24 - 28, 30 - 32, 34, 35, 40 - 46, 54 - 59 | C8: 90 | D8: 92 | E8: 94 | F8: 96 | G8: 99 | H8: 102 | I8: 105 | J8: 108 | K8: 113 | L8: Bulgaria
A9: BG3 | B9: 29, 33, 36 - 39, 47 - 53, 60 - 71, 76 - 79, 84 - 89 | C9: 92 | D9: 94 | E9: 96 | F9: 98 | G9: 101 | H9: 104 | I9: 107 | J9: 110 | K9: 115 | L9: Bulgaria
A10: BG4 | B10: 72 - 75, 80 - 83, 90 - 99 | C10: 94 | D10: 96 | E10: 98 | F10: 100 | G10: 103 | H10: 106 | I10: 109 | J10: 112 | K10: 117 | L10: Bulgaria | N10: 1 | O10: A | P10: Austria
A11: BIH1 | B11: 71 | C11: 75 | D11: 77 | E11: 79 | F11: 81 | G11: 84 | H11: 87 | I11: 90 | J11: 93 | K11: 98 | L11: Bosnia& Herzogovina | N11: 2 | O11: B | P11: Belgium
A12: BIH2 | B12: 72, 73 | C12: 78 | D12: 80 | E12: 82 | F12: 84 | G12: 87 | H12: 90 | I12: 93 | J12: 96 | K12: 101 | L12: Bosnia& Herzogovina | N12: 3 | O12: BIH | P12: Bosnia & Herzogovina
A13: BIH3 | B13: 70, 75, 81 - 88 | C13: 81 | D13: 83 | E13: 85 | F13: 87 | G13: 90 | H13: 93 | I13: 96 | J13: 99 | K13: 104 | L13: Bosnia& Herzogovina | N13: 4 | O13: BG | P13: Bulgaria
A14: BIH4 | B14: 74, 76, 89 | C14: 84 | D14: 86 | E14: 88 | F14: 90 | G14: 93 | H14: 96 | I14: 99 | J14: 102 | K14: 107 | L14: Bosnia& Herzogovina | N14: 5 | O14: HR | P14: Croatia
A15: BIH5 | B15: 78, 80 | C15: 86 | D15: 88 | E15: 90 | F15: 92 | G15: 95 | H15: 98 | I15: 101 | J15: 104 | K15: 109 | L15: Bosnia& Herzogovina | N15: 6 | O15: CZ | P15: Czech Republic
A16: BIH6 | B16: 77, 79 | C16: 89 | D16: 91 | E16: 93 | F16: 95 | G16: 98 | H16: 101 | I16: 104 | J16: 107 | K16: 112 | L16: Bosnia& Herzogovina | N16: 7 | O16: DK | P16: Denmark
A17: CH1 | B17: 90, 91, 93, 96 | C17: 22 | D17: 24 | E17: 26 | F17: 28 | G17: 31 | H17: 34 | I17: 37 | J17: 40 | K17: 45 | L17: Switzerland | N17: 8 | O17: EST | P17: Estonia
A18: CH2 | B18: 82, 84, 85, 92, 95 | C18: 24 | D18: 26 | E18: 28 | F18: 30 | G18: 33 | H18: 36 | I18: 39 | J18: 42 | K18: 47 | L18: Switzerland | N18: 9 | O18: FIN | P18: Finland
A19: CH3 | B19: 50 - 57, 60, 63, 64, 80, 81, 83, 86 - 89 | C19: 28 | D19: 30 | E19: 32 | F19: 34 | G19: 37 | H19: 40 | I19: 43 | J19: 46 | K19: 51 | L19: Switzerland | N19: 10 | O19: F | P19: France
A20: CH4 | B20: 25 - 38, 40 - 49, 61, 62 | C20: 30 | D20: 32 | E20: 34 | F20: 36 | G20: 39 | H20: 42 | I20: 45 | J20: 48 | K20: 53 | L20: Switzerland | N20: 11 | O20: D | P20: Germany
A21: CH5 | B21: 10 - 24, 39, 65 - 69 | C21: 34 | D21: 36 | E21: 38 | F21: 40 | G21: 43 | H21: 46 | I21: 49 | J21: 52 | K21: 57 | L21: Switzerland | N21: 12 | O21: GR | P21: Greece
A22: CH6 | B22: 70 - 77, 94 | C22: 36 | D22: 38 | E22: 40 | F22: 42 | G22: 45 | H22: 48 | I22: 51 | J22: 54 | K22: 59 | L22: Switzerland | N22: 13 | O22: H | P22: Hungary
A23: CZ1 | B23: 37 - 39, 50 - 58 | C23: 22 | D23: 24 | E23: 26 | F23: 28 | G23: 31 | H23: 34 | I23: 37 | J23: 40 | K23: 45 | L23: Czech Republic | N23: 14 | O23: IRL | P23: Ireland
... A38: E1 | B38: 08, 20, 28 | C38: 18 | D38: 20 | E38: 22 | F38: 25 | G38: 28 | H38: 31 | I38: 34 | J38: 37 | K38: 41 | L38: Spain | N38: 29 | O38: CH | P38: Switzerland
A39: E2 | B39: 01, 05, 16, 17, 19, 25, 26, 31, 40, 43, 45, 48 | C39: 22 | D39: 24 | E39: 26 | F39: 29 | G39: 32 | H39: 35 | I39: 38 | J39: 41 | K39: 45 | L39: Spain
A40: E3 | B40: 02, 09, 12, 13, 22, 34, 39, 42, 44, 46, 47, 50 | C40: 26 | D40: 28 | E40: 30 | F40: 33 | G40: 36 | H40: 39 | I40: 42 | J40: 45 | K40: 49 | L40: Spain
A41: E4 | B41: 03, 04, 06, 10, 11, 14, 15, 18, 21, 23, 24, 27, 29, 30, 32, 33, 36, 37, 41, 49 | C41: 52 | D41: 54 | E41: 56 | F41: 59 | G41: 62 | H41: 65 | I41: 68 | J41: 71 | K41: 75 | L41: Spain
A42: EST1 | B42: 10 - 15, 74 - 76 | C42: 46 | D42: 48 | E42: 50 | F42: 52 | G42: 55 | H42: 58 | I42: 61 | J42: 64 | K42: 69 | L42: Estonia
A43: EST2 | B43: 30 - 32, 41 - 46, 48 - 49, 69 - 73, 78 - 91 | C43: 48 | D43: 50 | E43: 52 | F43: 54 | G43: 57 | H43: 60 | I43: 63 | J43: 66 | K43: 71 | L43: Estonia
A44: EST3 | B44: 20 - 21, 29, 40, 50 - 51, 60 - 68 | C44: 50 | D44: 52 | E44: 54 | F44: 56 | G44: 59 | H44: 62 | I44: 65 | J44: 68 | K44: 73 | L44: Estonia | O44: For Discount:
A45: EST4 | B45: 92 - 94 | C45: 54 | D45: 56 | E45: 58 | F45: 60 | G45: 63 | H45: 66 | I45: 69 | J45: 72 | K45: 77 | L45: Estonia | O45: A | P45: Austria | Q45: 1
A46: F1 | B46: 60, 75, 77, 78, 92 - 95 | C46: 10 | D46: 12 | E46: 14 | F46: 16 | G46: 19 | H46: 22 | I46: 25 | J46: 28 | K46: 33 | L46: France | O46: B | P46: Belgium | Q46: 2
A47: F2 | B47: 02, 08, 10, 14, 27, 28, 45, 51, 62, 76, 80, 89, 91 | C47: 14 | D47: 16 | E47: 18 | F47: 20 | G47: 23 | H47: 26 | I47: 29 | J47: 32 | K47: 37 | L47: France | O47: BG | P47: Bulgaria | Q47: 3
A48: F3 | B48: 01, 03, 18, 21, 25, 35 - 37, 39, 41, 42, 44, 49, 50, 52 - 55, 57 - 59, 61, 67 - 72, 79, 85, 86, 88, 90 | C48: 20 | D48: 22 | E48: 24 | F48: 26 | G48: 29 | H48: 32 | I48: 35 | J48: 38 | K48: 43 | L48: France | O48: BIH | P48: Bosnia & Herzogovina | Q48: 4
A49: F4 | B49: 15 - 17, 19, 22 - 24, 29, 43, 56, 63, 87 | C49: 22 | D49: 24 | E49: 26 | F49: 28 | G49: 31 | H49: 34 | I49: 37 | J49: 40 | K49: 45 | L49: France | O49: CH | P49: Switzerland | Q49: 5
A50: F5 | B50: 04, 05, 07, 12, 26, 33, 38, 46 - 48, 73, 74, 81, 82, 84 | C50: 24 | D50: 26 | E50: 28 | F50: 30 | G50: 33 | H50: 36 | I50: 39 | J50: 42 | K50: 47 | L50: France | O50: CZ | P50: Czech Republic | Q50: 6
A51: F6 | B51: 06, 09, 11, 13, 30 - 32, 34, 40, 64 - 66, 83, 98 | C51: 30 | D51: 32 | E51: 34 | F51: 36 | G51: 39 | H51: 42 | I51: 45 | J51: 48 | K51: 53 | L51: France | O51: D | P51: Germany | Q51: 7
A52: FIN1 | B52: 00 - 64 | C52: 34 | D52: 36 | E52: 39 | F52: 42 | G52: 45 | H52: 48 | I52: 51 | J52: 54 | K52: 57 | L52: Finland | O52: DK | P52: Denmark | Q52: 8
A53: FIN2 | B53: 65 - 87 | C53: 42 | D53: 44 | E53: 47 | F53: 50 | G53: 53 | H53: 56 | I53: 59 | J53: 62 | K53: 65 | L53: Finland | O53: E | P53: Spain | Q53: 9
A54: FIN3 | B54: 88 - 92 | C54: 44 | D54: 46 | E54: 49 | F54: 52 | G54: 55 | H54: 58 | I54: 61 | J54: 64 | K54: 67 | L54: Finland | O54: EST | P54: Estonia | Q54: 10
...

Sheet tariff grid
A1: EUGB19 | B1: 1 | C1: 2 | D1: 3 | E1: 4 | F1: 5 | G1: 6 | H1: 7 | I1: 8 | J1: 9 | K1: 10 | L1: 11 | M1: 12 | N1: 13 | O1: 14 | P1: 15 | Q1: 16 | R1: 17 | S1: 18 | T1: 19 | U1: 20 | V1: 21 | W1: 22 | X1: 23 | Y1: 24 | Z1: 25 | AA1: 26 | AB1: 27 | AC1: 28 | AD1: 29 | AE1: 30 | AF1: 31 | AG1: 32 | AH1: 33 | AI1: 34 | AJ1: 35 | AK1: 36 | AL1: 37 | AM1: 38 | AN1: 39 | AO1: 40 | AP1: 41 | AQ1: 42 | AR1: 43 | AS1: 44 | AT1: 45 | AU1: 46 | AV1: 47 | AW1: 48 | AX1: 49 | AY1: 50 | AZ1: 51 | BA1: 52 | BB1: 53 | BC1: 54 | BD1: 55 | BE1: 56 | BF1: 57 | BG1: 58 | BH1: 59 | BI1: 60 | BJ1: 61 | BK1: 62 | BL1: 63 | BM1: 64 | BN1: 65 | BO1: 66 | BP1: 67 | BQ1: 68 | BR1: 69 | BS1: 70 | BT1: 71 | BU1: 72 | BV1: 73 | BW1: 74 | BX1: 75 | BY1: 76 | BZ1: 77 | CA1: 78 | CB1: 79 | CC1: 80 | CD1: 81 | CE1: 82 | CF1: 83 | CG1: 84 | CH1: 85 | CI1: 86 | CJ1: 87 | CK1: 88 | CL1: 89 | CM1: 90 | CN1: 91 | CO1: 92 | CP1: 93 | CQ1: 94 | CR1: 95 | CS1: 96 | CT1: 97 | CU1: 98 | CV1: 99 | CW1: 100 | CX1: 101 | CY1: 102 | CZ1: 103 | DA1: 104 | DB1: 105 | DC1: 106 | DD1: 107 | DE1: 108 | DF1: 109 | DG1: 110 | DH1: 111 | DI1: 112 | DJ1: 113 | DK1: 114 | DL1: 115 | DM1: 116 | DN1: 117 | DO1: 118 | DP1: 119 | DQ1: 120 | DR1: 121 | DS1: 122 | DT1: 123 | DU1: 124 | DV1: 125 | DW1: 126 | DX1: 127 | DY1: 128
A2: 50 | B2: 38.4 | C2: 39.7 | D2: 40.6 | E2: 42.2 | F2: 43.6 | G2: 44.7 | H2: 45.8 | I2: 47.4 | J2: 48.6 | K2: 49.8 | L2: 51 | M2: 52.4 | N2: 53.7 | O2: 54.7 | P2: 56.3 | Q2: 57.4 | R2: 58.6 | S2: 60.1 | T2: 61.2 | U2: 62.5 | V2: 63.9 | W2: 65.1 | X2: 66.3 | Y2: 67.7 | Z2: 68.9 | AA2: 70.2 | AB2: 71.4 | AC2: 72.7 | AD2: 74 | AE2: 75.2 | AF2: 76.5 | AG2: 77.9 | AH2: 79.1 | AI2: 80.4 | AJ2: 81.6 | AK2: 82.9 | AL2: 84.3 | AM2: 85.5 | AN2: 86.6 | AO2: 88.2 | AP2: 89.4 | AQ2: 90.5 | AR2: 91.7 | AS2: 93.3 | AT2: 94.4 | AU2: 95.6 | AV2: 96.9 | AW2: 98.3 | AX2: 99.2 | AY2: 100.9 | AZ2: 102 | BA2: 103.3 | BB2: 104.7 | BC2: 105.5 | BD2: 106 | BE2: 106.6 | BF2: 107 | BG2: 107.6 | BH2: 108.6 | BI2: 109.2 | BJ2: 109.8 | BK2: 110.3 | BL2: 111 | BM2: 111.7 | BN2: 112.1 | BO2: 113.1 | BP2: 113.6 | BQ2: 114.3 | BR2: 114.8 | BS2: 115.5 | BT2: 116.1 | BU2: 116.8 | BV2: 117.2 | BW2: 118.1 | BX2: 118.8 | BY2: 119.3 | BZ2: 119.7 | CA2: 120.6 | CB2: 121.2 | CC2: 122.4 | CD2: 123.7 | CE2: 125.1 | CF2: 126.4 | CG2: 127.3 | CH2: 129 | CI2: 130.1 | CJ2: 131.3 | CK2: 132.5 | CL2: 134 | CM2: 135.3 | CN2: 136.9 | CO2: 138.2 | CP2: 139.5 | CQ2: 153.5 | CR2: 168.8 | CS2: 185.6 | CT2: 204.3 | CU2: 224.7 | CV2: 247.2 | CW2: 271.9 | CX2: 285.4 | CY2: 299.8 | CZ2: 314.6 | DA2: 330.3 | DB2: 347 | DC2: 364.1 | DD2: 382.3 | DE2: 401.6 | DF2: 421.5 | DG2: 442.6 | DH2: 464.7 | DI2: 488.1 | DJ2: 512.4 | DK2: 538.2 | DL2: 565 | DM2: 593.2 | DN2: 622.8 | DO2: 654.1 | DP2: 686.7 | DQ2: 721 | DR2: 757 | DS2: 795 | DT2: 834.6 | DU2: 876.4 | DV2: 920.2 | DW2: 966.4 | DX2: 1014.4 | DY2: 1065.3
A3: 100 | B3: 43.2 | C3: 44.6 | D3: 46 | E3: 47.5 | F3: 49 | G3: 50.2 | H3: 51.9 | I3: 53.1 | J3: 54.5 | K3: 56.3 | L3: 57.4 | M3: 58.9 | N3: 60.5 | O3: 61.8 | P3: 63 | Q3: 64.7 | R3: 66.2 | S3: 67.6 | T3: 69 | U3: 70.4 | V3: 71.9 | W3: 73.3 | X3: 74.8 | Y3: 76.3 | Z3: 77.6 | AA3: 79.1 | AB3: 80.5 | AC3: 82 | AD3: 83.4 | AE3: 84.8 | AF3: 86.2 | AG3: 87.7 | AH3: 89.1 | AI3: 90.5 | AJ3: 92.1 | AK3: 93.5 | AL3: 94.8 | AM3: 96.5 | AN3: 97.8 | AO3: 99 | AP3: 100.8 | AQ3: 102.1 | AR3: 103.4 | AS3: 105.1 | AT3: 106.4 | AU3: 107.6 | AV3: 109.3 | AW3: 110.8 | AX3: 112.1 | AY3: 113.6 | AZ3: 115 | BA3: 116.5 | BB3: 118 | BC3: 118.8 | BD3: 119.3 | BE3: 120.1 | BF3: 120.8 | BG3: 121.6 | BH3: 122.2 | BI3: 123 | BJ3: 123.6 | BK3: 124.3 | BL3: 125.2 | BM3: 126 | BN3: 126.6 | BO3: 127.2 | BP3: 127.9 | BQ3: 128.9 | BR3: 129.5 | BS3: 130.3 | BT3: 130.9 | BU3: 131.5 | BV3: 132.3 | BW3: 133.3 | BX3: 133.8 | BY3: 134.4 | BZ3: 135 | CA3: 135.9 | CB3: 136.8 | CC3: 138.1 | CD3: 139.4 | CE3: 141 | CF3: 142.3 | CG3: 143.7 | CH3: 145.3 | CI3: 146.7 | CJ3: 148 | CK3: 149.5 | CL3: 151.1 | CM3: 152.4 | CN3: 154.3 | CO3: 155.8 | CP3: 157.6 | CQ3: 173.2 | CR3: 190.6 | CS3: 209.3 | CT3: 230.3 | CU3: 253.5 | CV3: 278.6 | CW3: 306.7 | CX3: 322 | CY3: 337.9 | CZ3: 354.9 | DA3: 372.6 | DB3: 391.2 | DC3: 411.1 | DD3: 431.4 | DE3: 452.9 | DF3: 475.4 | DG3: 499.4 | DH3: 524.2 | DI3: 550.5 | DJ3: 578.2 | DK3: 607.1 | DL3: 637.4 | DM3: 669.3 | DN3: 702.6 | DO3: 737.8 | DP3: 774.6 | DQ3: 813.6 | DR3: 854 | DS3: 896.7 | DT3: 941.6 | DU3: 988.6 | DV3: 1038.2 | DW3: 1090.1 | DX3: 1144.5 | DY3: 1201.8
A4: 150 | B4: 49.1 | C4: 50.5 | D4: 52.3 | E4: 54 | F4: 55.6 | G4: 57.2 | H4: 58.8 | I4: 60.6 | J4: 62.1 | K4: 63.9 | L4: 65.3 | M4: 67 | N4: 68.5 | O4: 70.3 | P4: 71.9 | Q4: 73.6 | R4: 75.1 | S4: 76.8 | T4: 78.5 | U4: 80.2 | V4: 81.7 | W4: 83.4 | X4: 84.9 | Y4: 86.6 | Z4: 88.3 | AA4: 89.9 | AB4: 91.4 | AC4: 93.3 | AD4: 94.7 | AE4: 96.6 | AF4: 98.1 | AG4: 99.8 | AH4: 101.5 | AI4: 102.8 | AJ4: 104.7 | AK4: 106.3 | AL4: 107.6 | AM4: 109.5 | AN4: 111.1 | AO4: 112.7 | AP4: 114.4 | AQ4: 116.1 | AR4: 117.7 | AS4: 119.3 | AT4: 121 | AU4: 122.6 | AV4: 124 | AW4: 126 | AX4: 127.3 | AY4: 129.2 | AZ4: 130.8 | BA4: 132.4 | BB4: 134 | BC4: 134.6 | BD4: 135.6 | BE4: 136.4 | BF4: 137.4 | BG4: 138.1 | BH4: 138.8 | BI4: 139.6 | BJ4: 140.6 | BK4: 141.5 | BL4: 142.2 | BM4: 143 | BN4: 143.7 | BO4: 144.5 | BP4: 145.7 | BQ4: 146.3 | BR4: 147.1 | BS4: 147.8 | BT4: 148.8 | BU4: 149.5 | BV4: 150.4 | BW4: 151.2 | BX4: 151.9 | BY4: 152.9 | BZ4: 153.6 | CA4: 154.5 | CB4: 155.3 | CC4: 156.8 | CD4: 158.6 | CE4: 159.9 | CF4: 162 | CG4: 163.4 | CH4: 165.2 | CI4: 166.7 | CJ4: 168.4 | CK4: 170 | CL4: 171.5 | CM4: 173.4 | CN4: 175.1 | CO4: 177 | CP4: 178.7 | CQ4: 196.6 | CR4: 216.3 | CS4: 238 | CT4: 261.6 | CU4: 288 | CV4: 316.9 | CW4: 348.4 | CX4: 366 | CY4: 384.1 | CZ4: 403.4 | DA4: 423.7 | DB4: 444.5 | DC4: 467.1 | DD4: 490.3 | DE4: 514.7 | DF4: 540.6 | DG4: 567.5 | DH4: 595.9 | DI4: 625.9 | DJ4: 657.1 | DK4: 690 | DL4: 724.4 | DM4: 760.7 | DN4: 798.7 | DO4: 838.6 | DP4: 880.5 | DQ4: 924.7 | DR4: 970.7 | DS4: 1019.4 | DT4: 1070.3 | DU4: 1123.9 | DV4: 1180.1 | DW4: 1239 | DX4: 1300.9 | DY4: 1366.1
A5: 200 | B5: 60 | C5: 61.8 | D5: 63.9 | E5: 66 | F5: 67.8 | G5: 69.9 | H5: 71.8 | I5: 73.8 | J5: 75.9 | K5: 77.7 | L5: 79.9 | M5: 81.8 | N5: 83.9 | O5: 85.8 | P5: 87.7 | Q5: 89.8 | R5: 91.7 | S5: 93.7 | T5: 95.6 | U5: 97.8 | V5: 99.8 | W5: 101.8 | X5: 103.5 | Y5: 105.9 | Z5: 107.5 | AA5: 109.8 | AB5: 111.5 | AC5: 113.7 | AD5: 115.7 | AE5: 117.7 | AF5: 119.5 | AG5: 121.8 | AH5: 123.6 | AI5: 125.7 | AJ5: 127.4 | AK5: 129.7 | AL5: 131.5 | AM5: 133.7 | AN5: 135.5 | AO5: 137.8 | AP5: 139.5 | AQ5: 141.7 | AR5: 143.4 | AS5: 145.8 | AT5: 147.5 | AU5: 149.5 | AV5: 151.5 | AW5: 153.6 | AX5: 155.6 | AY5: 157.7 | AZ5: 159.4 | BA5: 161.8 | BB5: 163.5 | BC5: 164.2 | BD5: 165.6 | BE5: 166.6 | BF5: 167.3 | BG5: 168.4 | BH5: 169.6 | BI5: 170.5 | BJ5: 171.4 | BK5: 172.6 | BL5: 173.5 | BM5: 174.4 | BN5: 175.3 | BO5: 176.3 | BP5: 177.6 | BQ5: 178.4 | BR5: 179.5 | BS5: 180.3 | BT5: 181.5 | BU5: 182.5 | BV5: 183.4 | BW5: 184.2 | BX5: 185.4 | BY5: 186.6 | BZ5: 187.5 | CA5: 188.4 | CB5: 189.2 | CC5: 191.4 | CD5: 193.5 | CE5: 195.4 | CF5: 197.6 | CG5: 199.3 | CH5: 201.6 | CI5: 203.3 | CJ5: 205.3 | CK5: 207.3 | CL5: 209.3 | CM5: 211.4 | CN5: 213.6 | CO5: 215.9 | CP5: 218.2 | CQ5: 240.1 | CR5: 264 | CS5: 290.3 | CT5: 319.4 | CU5: 351.3 | CV5: 386.4 | CW5: 424.9 | CX5: 446.5 | CY5: 468.8 | CZ5: 492.2 | DA5: 516.7 | DB5: 542.6 | DC5: 569.8 | DD5: 598.2 | DE5: 628 | DF5: 659.4 | DG5: 692.4 | DH5: 727.1 | DI5: 763.7 | DJ5: 801.6 | DK5: 841.8 | DL5: 883.7 | DM5: 928 | DN5: 974.4 | DO5: 1023.2 | DP5: 1074.4 | DQ5: 1128.1 | DR5: 1184.4 | DS5: 1243.8 | DT5: 1305.8 | DU5: 1371.2 | DV5: 1439.6 | DW5: 1511.7 | DX5: 1587.3 | DY5: 1666.6
A6: 250 | B6: 71.9 | C6: 74.4 | D6: 76.6 | E6: 79.1 | F6: 81.5 | G6: 83.9 | H6: 86.1 | I6: 88.7 | J6: 91 | K6: 93.4 | L6: 95.6 | M6: 98.2 | N6: 100.6 | O6: 102.7 | P6: 105.5 | Q6: 107.5 | R6: 110.1 | S6: 112.4 | T6: 114.8 | U6: 117.4 | V6: 119.6 | W6: 122.1 | X6: 124.3 | Y6: 126.9 | Z6: 129.3 | AA6: 131.5 | AB6: 134 | AC6: 136.4 | AD6: 138.7 | AE6: 141.4 | AF6: 143.4 | AG6: 146.1 | AH6: 148.3 | AI6: 150.9 | AJ6: 153.1 | AK6: 155.6 | AL6: 158.1 | AM6: 160.1 | AN6: 162.7 | AO6: 165.3 | AP6: 167.4 | AQ6: 170 | AR6: 172.3 | AS6: 174.6 | AT6: 177.2 | AU6: 179.5 | AV6: 181.9 | AW6: 184.2 | AX6: 186.8 | AY6: 188.9 | AZ6: 191.4 | BA6: 193.9 | BB6: 196 | BC6: 197.6 | BD6: 198.6 | BE6: 199.8 | BF6: 200.9 | BG6: 202.1 | BH6: 203.3 | BI6: 204.6 | BJ6: 205.7 | BK6: 206.9 | BL6: 208.3 | BM6: 209.3 | BN6: 210.5 | BO6: 211.5 | BP6: 213.1 | BQ6: 214 | BR6: 215.5 | BS6: 216.4 | BT6: 217.7 | BU6: 219 | BV6: 220.2 | BW6: 221 | BX6: 222.6 | BY6: 223.7 | BZ6: 224.9 | CA6: 225.8 | CB6: 227.4 | CC6: 229.6 | CD6: 232.3 | CE6: 234.5 | CF6: 236.7 | CG6: 239.1 | CH6: 241.6 | CI6: 244.1 | CJ6: 246.4 | CK6: 248.8 | CL6: 251.2 | CM6: 253.8 | CN6: 256.4 | CO6: 259.1 | CP6: 261.6 | CQ6: 288 | CR6: 316.9 | CS6: 348.4 | CT6: 383.4 | CU6: 421.7 | CV6: 463.9 | CW6: 510.2 | CX6: 535.8 | CY6: 562.5 | CZ6: 590.6 | DA6: 620.1 | DB6: 651.1 | DC6: 683.8 | DD6: 717.8 | DE6: 753.7 | DF6: 791.5 | DG6: 831.1 | DH6: 872.6 | DI6: 916.3 | DJ6: 962.1 | DK6: 1010.2 | DL6: 1060.8 | DM6: 1113.8 | DN6: 1169.3 | DO6: 1227.8 | DP6: 1289.3 | DQ6: 1353.8 | DR6: 1421.5 | DS6: 1492.5 | DT6: 1567.1 | DU6: 1645.5 | DV6: 1727.6 | DW6: 1814.2 | DX6: 1904.9 | DY6: 2000.1
A7: 300 | B7: 82.6 | C7: 85.4 | D7: 88.2 | E7: 91 | F7: 93.6 | G7: 96.5 | H7: 98.9 | I7: 102 | J7: 104.7 | K7: 107.2 | L7: 110.1 | M7: 113.1 | N7: 115.6 | O7: 118.3 | P7: 121.1 | Q7: 123.8 | R7: 126.6 | S7: 129.3 | T7: 131.8 | U7: 134.8 | V7: 137.8 | W7: 140.5 | X7: 143.1 | Y7: 146.1 | Z7: 148.7 | AA7: 151.4 | AB7: 154.1 | AC7: 156.9 | AD7: 159.5 | AE7: 162.4 | AF7: 165.2 | AG7: 167.9 | AH7: 170.6 | AI7: 173.4 | AJ7: 176.1 | AK7: 178.8 | AL7: 181.6 | AM7: 184.2 | AN7: 187.1 | AO7: 190.2 | AP7: 192.7 | AQ7: 195.4 | AR7: 198.3 | AS7: 201 | AT7: 203.6 | AU7: 206.4 | AV7: 209.1 | AW7: 212.2 | AX7: 214.7 | AY7: 217.4 | AZ7: 220.2 | BA7: 223 | BB7: 225.5 | BC7: 227.2 | BD7: 228.4 | BE7: 229.7 | BF7: 231.1 | BG7: 232.6 | BH7: 233.8 | BI7: 235.3 | BJ7: 236.5 | BK7: 237.9 | BL7: 239.3 | BM7: 240.8 | BN7: 242 | BO7: 243.4 | BP7: 245.1 | BQ7: 246.1 | BR7: 247.8 | BS7: 248.9 | BT7: 250.5 | BU7: 251.9 | BV7: 253.2 | BW7: 254.2 | BX7: 256 | BY7: 257.2 | BZ7: 258.6 | CA7: 260 | CB7: 261.3 | CC7: 264.4 | CD7: 266.9 | CE7: 269.7 | CF7: 272.5 | CG7: 275.1 | CH7: 277.9 | CI7: 280.7 | CJ7: 283.3 | CK7: 286 | CL7: 289.1 | CM7: 291.9 | CN7: 294.8 | CO7: 297.8 | CP7: 301 | CQ7: 331 | CR7: 364.2 | CS7: 400.8 | CT7: 433.9 | CU7: 464.3 | CV7: 496.7 | CW7: 531.7 | CX7: 558.1 | CY7: 586.1 | CZ7: 615.5 | DA7: 646.2 | DB7: 678.4 | DC7: 712.5 | DD7: 748.2 | DE7: 785.6 | DF7: 824.8 | DG7: 865.9 | DH7: 909.1 | DI7: 954.8 | DJ7: 1002.6 | DK7: 1052.7 | DL7: 1105.4 | DM7: 1160.6 | DN7: 1218.5 | DO7: 1279.6 | DP7: 1343.5 | DQ7: 1410.8 | DR7: 1481.2 | DS7: 1555.2 | DT7: 1633 | DU7: 1714.7 | DV7: 1800.5 | DW7: 1890.3 | DX7: 1985.1 | DY7: 2084.3
A8: 400 | B8: 91 | C8: 93.8 | D8: 96.9 | E8: 100.2 | F8: 102.8 | G8: 106.1 | H8: 109.1 | I8: 112.1 | J8: 115 | K8: 118.1 | L8: 121.1 | M8: 124 | N8: 127 | O8: 130.3 | P8: 133.4 | Q8: 136.2 | R8: 139 | S8: 142.2 | T8: 145.3 | U8: 148.4 | V8: 151.4 | W8: 154.5 | X8: 157.7 | Y8: 160.4 | Z8: 163.5 | AA8: 166.6 | AB8: 169.6 | AC8: 172.8 | AD8: 175.6 | AE8: 178.5 | AF8: 181.6 | AG8: 184.7 | AH8: 187.7 | AI8: 190.8 | AJ8: 193.8 | AK8: 196.8 | AL8: 199.6 | AM8: 202.8 | AN8: 205.7 | AO8: 209 | AP8: 211.9 | AQ8: 215.1 | AR8: 218.1 | AS8: 221 | AT8: 224.1 | AU8: 227.2 | AV8: 230.1 | AW8: 233.2 | AX8: 236.1 | AY8: 239 | AZ8: 242 | BA8: 245.2 | BB8: 248.3 | BC8: 249.7 | BD8: 251.2 | BE8: 252.8 | BF8: 254.1 | BG8: 255.8 | BH8: 257.2 | BI8: 258.8 | BJ8: 260.3 | BK8: 261.5 | BL8: 263.2 | BM8: 264.9 | BN8: 266.1 | BO8: 268 | BP8: 269.7 | BQ8: 270.8 | BR8: 272.6 | BS8: 273.7 | BT8: 275.6 | BU8: 277.1 | BV8: 278.5 | BW8: 280 | BX8: 281.5 | BY8: 282.8 | BZ8: 284.7 | CA8: 285.9 | CB8: 287.5 | CC8: 290.5 | CD8: 293.6 | CE8: 296.7 | CF8: 299.8 | CG8: 302.6 | CH8: 305.6 | CI8: 308.8 | CJ8: 311.8 | CK8: 314.6 | CL8: 317.8 | CM8: 321.2 | CN8: 324.5 | CO8: 327.6 | CP8: 331 | CQ8: 354.2 | CR8: 379.2 | CS8: 405.7 | CT8: 440.7 | CU8: 484.8 | CV8: 533.2 | CW8: 582.3 | CX8: 611.4 | CY8: 641.9 | CZ8: 674.1 | DA8: 707.9 | DB8: 743.3 | DC8: 780.2 | DD8: 819.2 | DE8: 860.3 | DF8: 903.3 | DG8: 948.4 | DH8: 995.7 | DI8: 1045.6 | DJ8: 1097.9 | DK8: 1152.9 | DL8: 1210.2 | DM8: 1271 | DN8: 1334.7 | DO8: 1401.3 | DP8: 1471.3 | DQ8: 1530.2 | DR8: 1591.6 | DS8: 1655.1 | DT8: 1721.4 | DU8: 1790.2 | DV8: 1861.6 | DW8: 1936.2 | DX8: 2013.6 | DY8: 2094.1
A9: 500 | B9: 99.6 | C9: 102.6 | D9: 106.1 | E9: 109.8 | F9: 112.7 | G9: 116.1 | H9: 119.3 | I9: 122.9 | J9: 126.1 | K9: 129.3 | L9: 132.5 | M9: 135.9 | N9: 138.9 | O9: 142.5 | P9: 146 | Q9: 149.3 | R9: 152.2 | S9: 155.7 | T9: 159.1 | U9: 162.7 | V9: 165.9 | W9: 169.1 | X9: 172.6 | Y9: 176 | Z9: 178.9 | AA9: 182.4 | AB9: 185.5 | AC9: 188.9 | AD9: 192.1 | AE9: 195.5 | AF9: 198.8 | AG9: 202.5 | AH9: 205.4 | AI9: 208.9 | AJ9: 212.3 | AK9: 215.6 | AL9: 218.7 | AM9: 222.1 | AN9: 225.3 | AO9: 228.9 | AP9: 232.1 | AQ9: 235.4 | AR9: 238.6 | AS9: 242.1 | AT9: 245.3 | AU9: 248.7 | AV9: 252 | AW9: 255.3 | AX9: 258.5 | AY9: 261.6 | AZ9: 265.1 | BA9: 268.6 | BB9: 271.9 | BC9: 273.6 | BD9: 275.1 | BE9: 277 | BF9: 278.4 | BG9: 280.1 | BH9: 281.7 | BI9: 283.3 | BJ9: 285 | BK9: 286.4 | BL9: 288.3 | BM9: 290 | BN9: 291.7 | BO9: 293.3 | BP9: 295.4 | BQ9: 296.7 | BR9: 298.3 | BS9: 299.9 | BT9: 301.6 | BU9: 303.1 | BV9: 305 | BW9: 306.2 | BX9: 308.3 | BY9: 309.9 | BZ9: 311.7 | CA9: 313.1 | CB9: 314.8 | CC9: 318.1 | CD9: 321.6 | CE9: 325 | CF9: 328.1 | CG9: 331.6 | CH9: 334.8 | CI9: 337.9 | CJ9: 341.4 | CK9: 344.6 | CL9: 347.9 | CM9: 351.5 | CN9: 355.2 | CO9: 358.8 | CP9: 362.5 | CQ9: 387.9 | CR9: 415.2 | CS9: 444.1 | CT9: 475.2 | CU9: 508.7 | CV9: 544.2 | CW9: 586.8 | CX9: 615.9 | CY9: 646.8 | CZ9: 679.2 | DA9: 713 | DB9: 748.7 | DC9: 786.2 | DD9: 825.4 | DE9: 866.9 | DF9: 910.1 | DG9: 955.5 | DH9: 1003.2 | DI9: 1053.6 | DJ9: 1106.2 | DK9: 1161.5 | DL9: 1219.8 | DM9: 1280.5 | DN9: 1344.5 | DO9: 1411.7 | DP9: 1471.3 | DQ9: 1545 | DR9: 1622 | DS9: 1703.4 | DT9: 1788.5 | DU9: 1877.9 | DV9: 1971.7 | DW9: 2070.3 | DX9: 2173.8 | DY9: 2282.7
A10: 600 | B10: 109.1 | C10: 112.5 | D10: 116.1 | E10: 120.1 | F10: 123.5 | G10: 127 | H10: 130.8 | I10: 134.4 | J10: 138.1 | K10: 141.7 | L10: 145.2 | M10: 148.9 | N10: 152.1 | O10: 156.1 | P10: 159.6 | Q10: 163.4 | R10: 166.9 | S10: 170.5 | T10: 174.2 | U10: 178.1 | V10: 181.5 | W10: 185 | X10: 188.7 | Y10: 192.7 | Z10: 195.9 | AA10: 199.6 | AB10: 203.2 | AC10: 206.9 | AD10: 210.6 | AE10: 214 | AF10: 217.6 | AG10: 221.3 | AH10: 224.9 | AI10: 228.8 | AJ10: 232.4 | AK10: 236.1 | AL10: 239.6 | AM10: 243 | AN10: 246.7 | AO10: 250.6 | AP10: 254 | AQ10: 257.8 | AR10: 261.2 | AS10: 265.2 | AT10: 268.7 | AU10: 272.4 | AV10: 275.9 | AW10: 279.6 | AX10: 283.1 | AY10: 286.6 | AZ10: 290.3 | BA10: 293.9 | BB10: 297.5 | BC10: 299.8 | BD10: 301.2 | BE10: 303 | BF10: 304.9 | BG10: 306.3 | BH10: 308.6 | BI10: 310.3 | BJ10: 312 | BK10: 313.9 | BL10: 315.4 | BM10: 317.6 | BN10: 319.3 | BO10: 321.2 | BP10: 323.2 | BQ10: 325 | BR10: 326.7 | BS10: 328.2 | BT10: 330.3 | BU10: 332.1 | BV10: 333.9 | BW10: 335.6 | BX10: 337.5 | BY10: 339.5 | BZ10: 341.2 | CA10: 342.9 | CB10: 344.8 | CC10: 348.3 | CD10: 352 | CE10: 355.5 | CF10: 359.1 | CG10: 362.9 | CH10: 366.5 | CI10: 370.2 | CJ10: 373.8 | CK10: 377.1 | CL10: 381 | CM10: 384.8 | CN10: 389 | CO10: 393 | CP10: 397.2 | CQ10: 424.8 | CR10: 454.8 | CS10: 486.5 | CT10: 520.6 | CU10: 556.9 | CV10: 595.9 | CW10: 637.7 | CX10: 669.5 | CY10: 703 | CZ10: 738.2 | DA10: 775 | DB10: 813.9 | DC10: 854.6 | DD10: 897.2 | DE10: 942.1 | DF10: 989.2 | DG10: 1033.9 | DH10: 1075 | DI10: 1118.1 | DJ10: 1162.8 | DK10: 1209.1 | DL10: 1257.7 | DM10: 1308 | DN10: 1360.3 | DO10: 1414.7 | DP10: 1482.5 | DQ10: 1556.5 | DR10: 1634.4 | DS10: 1716.1 | DT10: 1801.9 | DU10: 1892 | DV10: 1986.7 | DW10: 2085.7 | DX10: 2190.3 | DY10: 2293
A11: 700 | B11: 119.3 | C11: 123.3 | D11: 127 | E11: 131.4 | F11: 135.3 | G11: 138.9 | H11: 143.1 | I11: 147.3 | J11: 151.2 | K11: 155 | L11: 158.8 | M11: 163 | N11: 166.8 | O11: 171.1 | P11: 174.8 | Q11: 178.8 | R11: 182.9 | S11: 186.8 | T11: 190.9 | U11: 195 | V11: 198.7 | W11: 202.8 | X11: 206.7 | Y11: 211 | Z11: 214.9 | AA11: 218.7 | AB11: 222.6 | AC11: 226.5 | AD11: 230.6 | AE11: 234.5 | AF11: 238.3 | AG11: 242.6 | AH11: 246.1 | AI11: 250.5 | AJ11: 254.2 | AK11: 258.5 | AL11: 262.1 | AM11: 266 | AN11: 270.1 | AO11: 274.3 | AP11: 278.3 | AQ11: 282.2 | AR11: 286.1 | AS11: 290.4 | AT11: 294.1 | AU11: 298 | AV11: 301.8 | AW11: 306 | AX11: 310 | AY11: 314 | AZ11: 317.9 | BA11: 322 | BB11: 325.9 | BC11: 328.1 | BD11: 330 | BE11: 332 | BF11: 333.8 | BG11: 335.7 | BH11: 337.6 | BI11: 340 | BJ11: 341.6 | BK11: 343.5 | BL11: 345.4 | BM11: 347.7 | BN11: 349.8 | BO11: 351.5 | BP11: 354.1 | BQ11: 355.5 | BR11: 357.9 | BS11: 359.3 | BT11: 361.8 | BU11: 363.4 | BV11: 365.8 | BW11: 367.5 | BX11: 369.5 | BY11: 371.7 | BZ11: 373.3 | CA11: 375.5 | CB11: 377.4 | CC11: 381.4 | CD11: 385.5 | CE11: 389.4 | CF11: 393.4 | CG11: 397.5 | CH11: 401.4 | CI11: 405.3 | CJ11: 409.2 | CK11: 412.9 | CL11: 417.1 | CM11: 421.4 | CN11: 426 | CO11: 430.2 | CP11: 434.8 | CQ11: 465.3 | CR11: 498.1 | CS11: 532.6 | CT11: 570.2 | CU11: 610.1 | CV11: 652.6 | CW11: 698.3 | CX11: 726.2 | CY11: 755.5 | CZ11: 785.6 | DA11: 817.1 | DB11: 849.8 | DC11: 883.5 | DD11: 918.9 | DE11: 955.7 | DF11: 994 | DG11: 1038.8 | DH11: 1090.7 | DI11: 1145.2 | DJ11: 1202.4 | DK11: 1262.6 | DL11: 1325.5 | DM11: 1392 | DN11: 1461.6 | DO11: 1534.7 | DP11: 1611 | DQ11: 1675.6 | DR11: 1742.5 | DS11: 1812 | DT11: 1884.9 | DU11: 1960.2 | DV11: 2038.5 | DW11: 2120.2 | DX11: 2204.8 | DY11: 2294
A12: 800 | B12: 130.8 | C12: 134.8 | D12: 138.9 | E12: 144 | F12: 148 | G12: 152.1 | H12: 156.6 | I12: 161.4 | J12: 165.6 | K12: 169.8 | L12: 173.9 | M12: 178.4 | N12: 182.7 | O12: 187.4 | P12: 191.5 | Q12: 195.8 | R12: 200 | S12: 204.4 | T12: 209 | U12: 213.4 | V12: 217.5 | W12: 222.1 | X12: 226.3 | Y12: 231 | Z12: 235.2 | AA12: 239.6 | AB12: 243.8 | AC12: 248.2 | AD12: 252.6 | AE12: 256.6 | AF12: 260.9 | AG12: 265.5 | AH12: 269.7 | AI12: 274.2 | AJ12: 278.5 | AK12: 283.1 | AL12: 287.1 | AM12: 291.4 | AN12: 295.8 | AO12: 300.5 | AP12: 304.8 | AQ12: 309.1 | AR12: 313.3 | AS12: 318 | AT12: 322.1 | AU12: 326.5 | AV12: 330.5 | AW12: 335.3 | AX12: 339.6 | AY12: 343.7 | AZ12: 348.1 | BA12: 352.5 | BB12: 357 | BC12: 359.1 | BD12: 361.4 | BE12: 363.2 | BF12: 365.7 | BG12: 367.6 | BH12: 369.9 | BI12: 372.1 | BJ12: 374.2 | BK12: 376.2 | BL12: 378.4 | BM12: 380.7 | BN12: 383 | BO12: 384.8 | BP12: 387.7 | BQ12: 389.4 | BR12: 392 | BS12: 393.6 | BT12: 396 | BU12: 397.9 | BV12: 400.6 | BW12: 402.4 | BX12: 404.6 | BY12: 407 | BZ12: 408.9 | CA12: 411.3 | CB12: 413.4 | CC12: 417.5 | CD12: 422 | CE12: 426.4 | CF12: 430.6 | CG12: 435.2 | CH12: 439.4 | CI12: 443.9 | CJ12: 448.3 | CK12: 452.3 | CL12: 456.8 | CM12: 461.4 | CN12: 466.5 | CO12: 471.1 | CP12: 476.2 | CQ12: 509.6 | CR12: 545.3 | CS12: 583.3 | CT12: 623.9 | CU12: 667.9 | CV12: 714.6 | CW12: 764.7 | CX12: 795.4 | CY12: 827.1 | CZ12: 860.2 | DA12: 894.5 | DB12: 930.3 | DC12: 967.6 | DD12: 1006.2 | DE12: 1046.4 | DF12: 1088.4 | DG12: 1131.9 | DH12: 1177.1 | DI12: 1224.4 | DJ12: 1273.2 | DK12: 1324.2 | DL12: 1377.1 | DM12: 1432.2 | DN12: 1489.6 | DO12: 1549.1 | DP12: 1611.5 | DQ12: 1692 | DR12: 1776.4 | DS12: 1865.3 | DT12: 1958.5 | DU12: 2038 | DV12: 2099.2 | DW12: 2162.2 | DX12: 2227.1 | DY12: 2295.5
A13: 900 | B13: 143.1 | C13: 147.8 | D13: 152.1 | E13: 158 | F13: 162.3 | G13: 166.8 | H13: 171.5 | I13: 176.6 | J13: 181.1 | K13: 185.9 | L13: 190.5 | M13: 195.4 | N13: 199.9 | O13: 205.1 | P13: 209.5 | Q13: 214.5 | R13: 219.2 | S13: 224 | T13: 228.9 | U13: 233.7 | V13: 238.2 | W13: 243 | X13: 247.8 | Y13: 253 | Z13: 257.5 | AA13: 262.1 | AB13: 266.9 | AC13: 271.6 | AD13: 276.5 | AE13: 281.2 | AF13: 285.8 | AG13: 290.7 | AH13: 295.4 | AI13: 300.4 | AJ13: 305 | AK13: 310 | AL13: 314.5 | AM13: 319 | AN13: 323.9 | AO13: 329.1 | AP13: 333.5 | AQ13: 338.3 | AR13: 343.2 | AS13: 348.2 | AT13: 352.6 | AU13: 357.6 | AV13: 362 | AW13: 367.1 | AX13: 371.8 | AY13: 376.3 | AZ13: 381.2 | BA13: 386 | BB13: 390.8 | BC13: 393.4 | BD13: 395.6 | BE13: 397.8 | BF13: 400.3 | BG13: 402.6 | BH13: 404.7 | BI13: 407.5 | BJ13: 409.7 | BK13: 411.9 | BL13: 414.3 | BM13: 416.9 | BN13: 419.3 | BO13: 421.4 | BP13: 424.5 | BQ13: 426.4 | BR13: 429.1 | BS13: 431.1 | BT13: 433.7 | BU13: 435.7 | BV13: 438.6 | BW13: 440.5 | BX13: 443.4 | BY13: 445.6 | BZ13: 448 | CA13: 450.2 | CB13: 452.6 | CC13: 457.2 | CD13: 462.2 | CE13: 466.9 | CF13: 471.5 | CG13: 476.5 | CH13: 481.2 | CI13: 486.1 | CJ13: 491.1 | CK13: 495.4 | CL13: 500.2 | CM13: 505.3 | CN13: 510.7 | CO13: 516 | CP13: 521.5 | CQ13: 557.9 | CR13: 597 | CS13: 638.7 | CT13: 683.4 | CU13: 728.8 | CV13: 765.1 | CW13: 803.6 | CX13: 835.7 | CY13: 868.7 | CZ13: 903.7 | DA13: 939.8 | DB13: 977.5 | DC13: 1016.7 | DD13: 1057.2 | DE13: 1099.5 | DF13: 1143.4 | DG13: 1189.3 | DH13: 1236.9 | DI13: 1286.2 | DJ13: 1337.7 | DK13: 1391.3 | DL13: 1446.8 | DM13: 1504.9 | DN13: 1565 | DO13: 1627.7 | DP13: 1692.6 | DQ13: 1760.3 | DR13: 1830.9 | DS13: 1903.8 | DT13: 1978.7 | DU13: 2039.6 | DV13: 2100.7 | DW13: 2163.7 | DX13: 2228.6 | DY13: 2299.7
... A29: 2500 | B29: 312.7 | C29: 322.3 | D29: 332.4 | E29: 344.8 | F29: 354.4 | G29: 364.2 | H29: 374.8 | I29: 385.3 | J29: 395.4 | K29: 405.8 | L29: 415.9 | M29: 426.4 | N29: 436.8 | O29: 447.5 | P29: 457.1 | Q29: 468.4 | R29: 478.5 | S29: 488.8 | T29: 499.6 | U29: 510.3 | V29: 519.9 | W29: 530.3 | X29: 540.3 | Y29: 552.3 | Z29: 562.3 | AA29: 572.3 | AB29: 582.7 | AC29: 593.2 | AD29: 603.5 | AE29: 613.6 | AF29: 623.8 | AG29: 634.5 | AH29: 644.6 | AI29: 655.1 | AJ29: 665.9 | AK29: 676.9 | AL29: 686.6 | AM29: 696.8 | AN29: 706.9 | AO29: 717.8 | AP29: 728 | AQ29: 738.6 | AR29: 748.8 | AS29: 760.1 | AT29: 769.3 | AU29: 780.5 | AV29: 790.6 | AW29: 801.6 | AX29: 811.2 | AY29: 821.5 | AZ29: 832 | BA29: 842.6 | BB29: 852.9 | BC29: 858.7 | BD29: 864 | BE29: 868.5 | BF29: 874.1 | BG29: 878.7 | BH29: 883.7 | BI29: 889.6 | BJ29: 894.5 | BK29: 898.9 | BL29: 904.1 | BM29: 910.5 | BN29: 915 | BO29: 919.5 | BP29: 926.8 | BQ29: 931 | BR29: 936.9 | BS29: 940.6 | BT29: 947.1 | BU29: 951.3 | BV29: 956.9 | BW29: 961.3 | BX29: 967.6 | BY29: 973.1 | BZ29: 977.8 | CA29: 982.9 | CB29: 988.2 | CC29: 998.5 | CD29: 1009.2 | CE29: 1019.3 | CF29: 1029.4 | CG29: 1040 | CH29: 1050.4 | CI29: 1061.2 | CJ29: 1071.5 | CK29: 1081.2 | CL29: 1092 | CM29: 1103 | CN29: 1115 | CO29: 1126.4 | CP29: 1138.3 | CQ29: 1149.6 | CR29: 1161.1 | CS29: 1172.8 | CT29: 1184.5 | CU29: 1220.1 | CV29: 1232.2 | CW29: 1244.6 | CX29: 1281.9 | CY29: 1320.3 | CZ29: 1360 | DA29: 1400.7 | DB29: 1442.8 | DC29: 1486 | DD29: 1530.6 | DE29: 1576.5 | DF29: 1623.9 | DG29: 1672.6 | DH29: 1722.7 | DI29: 1774.4 | DJ29: 1827.6 | DK29: 1882.4 | DL29: 1938.8 | DM29: 1997.1 | DN29: 2056.9 | DO29: 2118.9 | DP29: 2182.4 | DQ29: 2247.7 | DR29: 2315.2 | DS29: 2384.8 | DT29: 2456.3 | DU29: 2530 | DV29: 2605.7 | DW29: 2683.9 | DX29: 2764.6 | DY29: 2847.2

Sheet discount sheet
B1: Export Discounts
A2: b/point | B2: A | C2: B | D2: BG | E2: BIH | F2: CH | G2: CZ | H2: D | I2: DK | J2: E | K2: EST | L2: F | M2: FIN | N2: GR | O2: H | P2: HR | Q2: I | R2: IRL | S2: L | T2: LT | U2: LV | V2: N | W2: NL | X2: P | Y2: PL | Z2: RO | AA2: S | AB2: SK | AC2: SLO | AD2: SRB
A3: 50 | B3: 0 | C3: 0 | D3: 0 | E3: 0 | F3: 0 | G3: 0 | H3: 0 | I3: 0 | J3: 0 | K3: 0 | L3: 0 | M3: 0 | N3: 0 | O3: 0 | P3: 0 | Q3: 0 | R3: 0 | S3: 0 | T3: 0 | U3: 0 | V3: 0 | W3: 0 | X3: 0 | Y3: 0 | Z3: 0 | AA3: 0 | AB3: 0 | AC3: 0 | AD3: 0
A4: 100 | B4: 0 | C4: 0 | D4: 0 | E4: 0 | F4: 0 | G4: 0 | H4: 0 | I4: 0 | J4: 0 | K4: 0 | L4: 0 | M4: 0 | N4: 0 | O4: 0 | P4: 0 | Q4: 0 | R4: 0 | S4: 0 | T4: 0 | U4: 0 | V4: 0 | W4: 0 | X4: 0 | Y4: 0 | Z4: 0 | AA4: 0 | AB4: 0 | AC4: 0 | AD4: 0
A5: 150 | B5: 0 | C5: 0 | D5: 0 | E5: 0 | F5: 0 | G5: 0 | H5: 0 | I5: 0 | J5: 0 | K5: 0 | L5: 0 | M5: 0 | N5: 0 | O5: 0 | P5: 0 | Q5: 0 | R5: 0 | S5: 0 | T5: 0 | U5: 0 | V5: 0 | W5: 0 | X5: 0 | Y5: 0 | Z5: 0 | AA5: 0 | AB5: 0 | AC5: 0 | AD5: 0
A6: 200 | B6: 0 | C6: 0 | D6: 0 | E6: 0 | F6: 0 | G6: 0 | H6: 0 | I6: 0 | J6: 0 | K6: 0 | L6: 0 | M6: 0 | N6: 0 | O6: 0 | P6: 0 | Q6: 0 | R6: 0 | S6: 0 | T6: 0 | U6: 0 | V6: 0 | W6: 0 | X6: 0 | Y6: 0 | Z6: 0 | AA6: 0 | AB6: 0 | AC6: 0 | AD6: 0
A7: 250 | B7: 0 | C7: 0 | D7: 0 | E7: 0 | F7: 0 | G7: 0 | H7: 0 | I7: 0 | J7: 0 | K7: 0 | L7: 0 | M7: 0 | N7: 0 | O7: 0 | P7: 0 | Q7: 0 | R7: 0 | S7: 0 | T7: 0 | U7: 0 | V7: 0 | W7: 0 | X7: 0 | Y7: 0 | Z7: 0 | AA7: 0 | AB7: 0 | AC7: 0 | AD7: 0
A8: 300 | B8: 0 | C8: 0 | D8: 0 | E8: 0 | F8: 0 | G8: 0 | H8: 0 | I8: 0 | J8: 0 | K8: 0 | L8: 0 | M8: 0 | N8: 0 | O8: 0 | P8: 0 | Q8: 0 | R8: 0 | S8: 0 | T8: 0 | U8: 0 | V8: 0 | W8: 0 | X8: 0 | Y8: 0 | Z8: 0 | AA8: 0 | AB8: 0 | AC8: 0 | AD8: 0
A9: 400 | B9: 0 | C9: 0 | D9: 0 | E9: 0 | F9: 0 | G9: 0 | H9: 0 | I9: 0 | J9: 0 | K9: 0 | L9: 0 | M9: 0 | N9: 0 | O9: 0 | P9: 0 | Q9: 0 | R9: 0 | S9: 0 | T9: 0 | U9: 0 | V9: 0 | W9: 0 | X9: 0 | Y9: 0 | Z9: 0 | AA9: 0 | AB9: 0 | AC9: 0 | AD9: 0
A10: 500 | B10: 0 | C10: 0 | D10: 0 | E10: 0 | F10: 0 | G10: 0 | H10: 0 | I10: 0 | J10: 0 | K10: 0 | L10: 0 | M10: 0 | N10: 0 | O10: 0 | P10: 0 | Q10: 0 | R10: 0 | S10: 0 | T10: 0 | U10: 0 | V10: 0 | W10: 0 | X10: 0 | Y10: 0 | Z10: 0 | AA10: 0 | AB10: 0 | AC10: 0 | AD10: 0
A11: 600 | B11: 0 | C11: 0 | D11: 0 | E11: 0 | F11: 0 | G11: 0 | H11: 0 | I11: 0 | J11: 0 | K11: 0 | L11: 0 | M11: 0 | N11: 0 | O11: 0 | P11: 0 | Q11: 0 | R11: 0 | S11: 0 | T11: 0 | U11: 0 | V11: 0 | W11: 0 | X11: 0 | Y11: 0 | Z11: 0 | AA11: 0 | AB11: 0 | AC11: 0 | AD11: 0
A12: 700 | B12: 0 | C12: 0 | D12: 0 | E12: 0 | F12: 0 | G12: 0 | H12: 0 | I12: 0 | J12: 0 | K12: 0 | L12: 0 | M12: 0 | N12: 0 | O12: 0 | P12: 0 | Q12: 0 | R12: 0 | S12: 0 | T12: 0 | U12: 0 | V12: 0 | W12: 0 | X12: 0 | Y12: 0 | Z12: 0 | AA12: 0 | AB12: 0 | AC12: 0 | AD12: 0
A13: 800 | B13: 0 | C13: 0 | D13: 0 | E13: 0 | F13: 0 | G13: 0 | H13: 0 | I13: 0 | J13: 0 | K13: 0 | L13: 0 | M13: 0 | N13: 0 | O13: 0 | P13: 0 | Q13: 0 | R13: 0 | S13: 0 | T13: 0 | U13: 0 | V13: 0 | W13: 0 | X13: 0 | Y13: 0 | Z13: 0 | AA13: 0 | AB13: 0 | AC13: 0 | AD13: 0
A14: 900 | B14: 0 | C14: 0 | D14: 0 | E14: 0 | F14: 0 | G14: 0 | H14: 0 | I14: 0 | J14: 0 | K14: 0 | L14: 0 | M14: 0 | N14: 0 | O14: 0 | P14: 0 | Q14: 0 | R14: 0 | S14: 0 | T14: 0 | U14: 0 | V14: 0 | W14: 0 | X14: 0 | Y14: 0 | Z14: 0 | AA14: 0 | AB14: 0 | AC14: 0 | AD14: 0
... A30: 2500 | B30: 0 | C30: 0 | D30: 0 | E30: 0 | F30: 0 | G30: 0 | H30: 0 | I30: 0 | J30: 0 | K30: 0 | L30: 0 | M30: 0 | N30: 0 | O30: 0 | P30: 0 | Q30: 0 | R30: 0 | S30: 0 | T30: 0 | U30: 0 | V30: 0 | W30: 0 | X30: 0 | Y30: 0 | Z30: 0 | AA30: 0 | AB30: 0 | AC30: 0 | AD30: 0
A32: Discount | B32: =1+(INDEX(ExportDiscountTable,VLOOKUP('Entry sheet'!T36,weightband,3),VLOOKUP(CountryCode,'Grid and variables'!O45:Q73,3,FALSE))) -> 1
B34: Import Discounts
A36: b/point | B36: A | C36: B | D36: BG | E36: BIH | F36: CH | G36: CZ | H36: D | I36: DK | J36: E | K36: EST | L36: F | M36: FIN | N36: GR | O36: H | P36: HR | Q36: I | R36: IRL | S36: L | T36: LT | U36: LV | V36: N | W36: NL | X36: P | Y36: PL | Z36: RO | AA36: S | AB36: SK | AC36: SLO | AD36: SRB
A37: 50 | B37: -0.1 | C37: -0.55 | D37: -0.1 | E37: -0.1 | F37: -0.1 | G37: -0.1 | H37: -0.1 | I37: -0.1 | J37: -0.1 | K37: -0.1 | L37: -0.1 | M37: -0.1 | N37: -0.1 | O37: -0.1 | P37: -0.1 | Q37: -0.1 | R37: 0 | S37: -0.1 | T37: -0.1 | U37: -0.1 | V37: -0.1 | W37: -0.1 | X37: -0.1 | Y37: -0.1 | Z37: -0.1 | AA37: -0.1 | AB37: -0.1 | AC37: -0.1 | AD37: -0.1
A38: 100 | B38: -0.1 | C38: -0.55 | D38: -0.1 | E38: -0.1 | F38: -0.1 | G38: -0.1 | H38: -0.1 | I38: -0.1 | J38: -0.1 | K38: -0.1 | L38: -0.1 | M38: -0.1 | N38: -0.1 | O38: -0.1 | P38: -0.1 | Q38: -0.1 | R38: 0 | S38: -0.1 | T38: -0.1 | U38: -0.1 | V38: -0.1 | W38: -0.1 | X38: -0.1 | Y38: -0.1 | Z38: -0.1 | AA38: -0.1 | AB38: -0.1 | AC38: -0.1 | AD38: -0.1
A39: 150 | B39: -0.1 | C39: -0.55 | D39: -0.1 | E39: -0.1 | F39: -0.1 | G39: -0.1 | H39: -0.1 | I39: -0.1 | J39: -0.1 | K39: -0.1 | L39: -0.1 | M39: -0.1 | N39: -0.1 | O39: -0.1 | P39: -0.1 | Q39: -0.1 | R39: 0 | S39: -0.1 | T39: -0.1 | U39: -0.1 | V39: -0.1 | W39: -0.1 | X39: -0.1 | Y39: -0.1 | Z39: -0.1 | AA39: -0.1 | AB39: -0.1 | AC39: -0.1 | AD39: -0.1
A40: 200 | B40: -0.1 | C40: -0.5 | D40: -0.1 | E40: -0.1 | F40: -0.1 | G40: -0.1 | H40: -0.1 | I40: -0.1 | J40: -0.1 | K40: -0.1 | L40: -0.1 | M40: -0.1 | N40: -0.1 | O40: -0.1 | P40: -0.1 | Q40: -0.1 | R40: 0 | S40: -0.1 | T40: -0.1 | U40: -0.1 | V40: -0.1 | W40: -0.1 | X40: -0.1 | Y40: -0.1 | Z40: -0.1 | AA40: -0.1 | AB40: -0.1 | AC40: -0.1 | AD40: -0.1
A41: 250 | B41: -0.1 | C41: -0.5 | D41: -0.1 | E41: -0.1 | F41: -0.1 | G41: -0.1 | H41: -0.1 | I41: -0.1 | J41: -0.1 | K41: -0.1 | L41: -0.1 | M41: -0.1 | N41: -0.1 | O41: -0.1 | P41: -0.1 | Q41: -0.1 | R41: 0 | S41: -0.1 | T41: -0.1 | U41: -0.1 | V41: -0.1 | W41: -0.1 | X41: -0.1 | Y41: -0.1 | Z41: -0.1 | AA41: -0.1 | AB41: -0.1 | AC41: -0.1 | AD41: -0.1
A42: 300 | B42: -0.1 | C42: -0.45 | D42: -0.1 | E42: -0.1 | F42: -0.1 | G42: -0.1 | H42: -0.1 | I42: -0.1 | J42: -0.1 | K42: -0.1 | L42: -0.1 | M42: -0.1 | N42: -0.1 | O42: -0.1 | P42: -0.1 | Q42: -0.1 | R42: 0 | S42: -0.1 | T42: -0.1 | U42: -0.1 | V42: -0.1 | W42: -0.1 | X42: -0.1 | Y42: -0.1 | Z42: -0.1 | AA42: -0.1 | AB42: -0.1 | AC42: -0.1 | AD42: -0.1
A43: 400 | B43: -0.1 | C43: -0.4 | D43: -0.1 | E43: -0.1 | F43: -0.1 | G43: -0.1 | H43: -0.1 | I43: -0.1 | J43: -0.1 | K43: -0.1 | L43: -0.1 | M43: -0.1 | N43: -0.1 | O43: -0.1 | P43: -0.1 | Q43: -0.1 | R43: 0 | S43: -0.1 | T43: -0.1 | U43: -0.1 | V43: -0.1 | W43: -0.1 | X43: -0.1 | Y43: -0.1 | Z43: -0.1 | AA43: -0.1 | AB43: -0.1 | AC43: -0.1 | AD43: -0.1
A44: 500 | B44: -0.1 | C44: -0.3 | D44: -0.1 | E44: -0.1 | F44: -0.1 | G44: -0.1 | H44: -0.1 | I44: -0.1 | J44: -0.1 | K44: -0.1 | L44: -0.1 | M44: -0.1 | N44: -0.1 | O44: -0.1 | P44: -0.1 | Q44: -0.1 | R44: 0 | S44: -0.1 | T44: -0.1 | U44: -0.1 | V44: -0.1 | W44: -0.1 | X44: -0.1 | Y44: -0.1 | Z44: -0.1 | AA44: -0.1 | AB44: -0.1 | AC44: -0.1 | AD44: -0.1
A45: 600 | B45: -0.1 | C45: -0.25 | D45: -0.1 | E45: -0.1 | F45: -0.1 | G45: -0.1 | H45: -0.1 | I45: -0.1 | J45: -0.1 | K45: -0.1 | L45: -0.1 | M45: -0.1 | N45: -0.1 | O45: -0.1 | P45: -0.1 | Q45: -0.1 | R45: 0 | S45: -0.1 | T45: -0.1 | U45: -0.1 | V45: -0.1 | W45: -0.1 | X45: -0.1 | Y45: -0.1 | Z45: -0.1 | AA45: -0.1 | AB45: -0.1 | AC45: -0.1 | AD45: -0.1
A46: 700 | B46: -0.1 | C46: -0.2 | D46: -0.1 | E46: -0.1 | F46: -0.1 | G46: -0.1 | H46: -0.1 | I46: -0.1 | J46: -0.1 | K46: -0.1 | L46: -0.1 | M46: -0.1 | N46: -0.1 | O46: -0.1 | P46: -0.1 | Q46: -0.1 | R46: 0 | S46: -0.1 | T46: -0.1 | U46: -0.1 | V46: -0.1 | W46: -0.1 | X46: -0.1 | Y46: -0.1 | Z46: -0.1 | AA46: -0.1 | AB46: -0.1 | AC46: -0.1 | AD46: -0.1
A47: 800 | B47: -0.1 | C47: -0.15 | D47: -0.1 | E47: -0.1 | F47: -0.1 | G47: -0.1 | H47: -0.1 | I47: -0.1 | J47: -0.1 | K47: -0.1 | L47: -0.1 | M47: -0.1 | N47: -0.1 | O47: -0.1 | P47: -0.1 | Q47: -0.1 | R47: 0 | S47: -0.1 | T47: -0.1 | U47: -0.1 | V47: -0.1 | W47: -0.1 | X47: -0.1 | Y47: -0.1 | Z47: -0.1 | AA47: -0.1 | AB47: -0.1 | AC47: -0.1 | AD47: -0.1
A48: 900 | B48: -0.1 | C48: -0.15 | D48: -0.1 | E48: -0.1 | F48: -0.1 | G48: -0.1 | H48: -0.1 | I48: -0.1 | J48: -0.1 | K48: -0.1 | L48: -0.1 | M48: -0.1 | N48: -0.1 | O48: -0.1 | P48: -0.1 | Q48: -0.1 | R48: 0 | S48: -0.1 | T48: -0.1 | U48: -0.1 | V48: -0.1 | W48: -0.1 | X48: -0.1 | Y48: -0.1 | Z48: -0.1 | AA48: -0.1 | AB48: -0.1 | AC48: -0.1 | AD48: -0.1
... A64: 2500 | B64: -0.1 | C64: -0.05 | D64: -0.1 | E64: -0.1 | F64: -0.1 | G64: -0.1 | H64: -0.1 | I64: -0.1 | J64: -0.1 | K64: -0.1 | L64: -0.1 | M64: -0.1 | N64: -0.1 | O64: -0.1 | P64: -0.1 | Q64: -0.1 | R64: 0 | S64: -0.1 | T64: -0.1 | U64: -0.1 | V64: -0.1 | W64: -0.1 | X64: -0.1 | Y64: -0.1 | Z64: -0.1 | AA64: -0.1 | AB64: -0.1 | AC64: -0.1 | AD64: -0.1
A66: Discount | B66: =1+(INDEX(ImportDiscountTable,VLOOKUP('Entry sheet'!T36,weightband,3),VLOOKUP(CountryCode,'Grid and variables'!O45:Q73,3,FALSE))) -> 0.5

Sheet Entry sheet
E1: Country Index | F1: Country Code | G1: Maut | H1: Haz surcharge | I1: Country Zone | J1: CC+Zone | K1: Grid Column | L1: Haz switch | M1: Documents | O1: Product | P1: Customs Clearance | Q1: Imp/Exp
E2: 2 | F2: =VLOOKUP(E2,CountryCodes,2) -> B | G2: =VLOOKUP(E2,MautandHaz,3) -> 0 | H2: =VLOOKUP(E2,MautandHaz,4) -> 25 | I2: 1 | J2: =F2&I2 -> B1 | K2: =IF(Q2=1,(VLOOKUP(J2,ZoneAllocation,B8+2)),VLOOKUP(J2,ZoneAllocationImport,B8+2)) -> 37 | L2: 2 | M2: 1 | O2: 1 | P2: 2 | Q2: 2
C3: Dachser Import Rate Calculation Tool - Valid to: 31/01/2020
A5: resulting postcode | B5: =LEFT(E5,2) -> CB | C5: ENTER UK POSTCODE: | E5: CB | I5: *FUEL SURCHARGE RATE (%) : | J5: 3.4
A7: sorted postcode | B7: =VLOOKUP(B5,'Grid and variables'!I249:J417,2,FALSE) -> CB | C7: SELECT COUNTRY: | I7: *CURRENCY SURCHARGE RATE (%) : | J7: 8.5 | L7: Please check with Dachser before using this tool for island collections/deliveries
A8: UK Zone | B8: =VLOOKUP(B7,UKZones,2) -> 3 | W8: Hazardous | Z8: Export NES/EX1 not required | AB8: 1 | AC8: Classicline | AD8: 1 | AF8: Free delivered cleared | AH8: Export
C9: SELECT POSTCODE ZONE: | W9: Non hazardous | Z9: Export NES/EX1 required | AB9: 2 | AC9: Sysline | AD9: 1 | AF9: Free delivered uncleared | AH9: Import | AJ9: We may not be able to offer an import service from this country, please call Dachser to check if price is applicable.
E10: =IF(OR(CountryCode="BIH",CountryCode="N",CountryCode="SRB",CountryCode="CH"),"Customs Formalities required - please select customs options below","") | AB10: 3 | AC10: Fixline | AD10: 1
AD11: 1
C12: Enter Shipment details | I12: NON-STACKABLE CARGO: THIS CALCULATOR TOOL CAN BE USED FOR NON-STACKABLE CARGO UP TO 4 EURO PLTS/1.6 LDM. FOR NON-STACKABLE CONSIGNMENTS OVER THIS AMOUNT, PLEASE CALL US TO CHECK PRICING.
C13: Pcs | D13: Length (cm) | E13: Width (cm) | F13: Height (cm) | G13: kgs (per piece)
C14: 1 | D14: 120 | E14: 80 | F14: 100 | G14: 50
I15: SIZE/WEIGHT RESTRICTIONS: MAX DIMENSIONS/KGS FOR STANDARD CHARGES ARE 240 X 180 X 220 & 1000 KGS PER PIECE (except where tail lift is required). PLEASE CALL US TO CHECK IF YOU HAVE LARGER DIMENSIONS/KGS.
I19: PROHIBITED CARGO: PERSONAL EFFECTS, FURNITURE (UNLESS SUITABLY PACKED FOR ROADFREIGHT), WEAPONRY/MUNITIONS, TEMPERATURE-CONTROLLED GOODS, TOBACCO PRODUCTS, WHITE GOODS (FRIDGES/FREEZERS ETC.), JEWELLERY, WORKS OF ART, PAINTINGS & SCULPTURES. PLEASE CHECK WITH US BEFORE USING THIS QUOTE TOOL FOR ANY HIGH VALUE GOODS EXCEEDING £200,000.
C21: TOTALS: | E21: =SUM(C14:C20)&" pcs" -> 1 pcs | F21: =ROUND($S$36/250,2)&" cbm" -> 0.96 cbm | G21: =ROUND($T$36,0)&" kg" -> 240 kg
C22: (chargeable weight)
C24: SELECT OPTIONS:
E25: =IF(L2=2,"","Hazardous items - Please call Dachser to advise Class/UN numbers, as there are some restrictions on the type of hazardous cargo that we can carry.") | I25: Freight charges | K25: =IF(ISERROR(IF(T36>2500,"out of range",IF(U50=1,"out of range",ROUND(T38*AD11,1)))),"",IF(T36>2500,"out of range",IF(U50=1,"out of range",ROUND(T38*AD11,1)))) -> 79.1 | L25: =IF(OR(B6="AB",B6="DD",B6="DG",B6="EH",B6="FK",B6="G",B6="G1",B6="G2",B6="G3",B6="G4",B6="G5",B6="G6",B6="G7",B6="G8",B6="G9",B6="GY",B6="HS",B6="IM",B6="IV",B6="JE",B6="KA",B6="KW",B6="KY",B6="ML",B6="PA",B6="PH",B6="TD",B6="ZE"),"Postcode not covered by standard rates, please call Dachser for a spot quote.",IF(ISERROR(B8),"Please enter the first two letters of a valid postcode",""))
I26: Fuel surcharge | K26: =ROUND(ROUND(IF(ISERROR(K25*J5/100),"",K25*J5/100),2),1) -> 2.7
I27: Currency surcharge | K27: =ROUND(ROUND(IF(ISERROR(K25*J7/100),"",K25*J7/100),2),1) -> 6.7
I28: Road Tolls | K28: =IF(ISERROR(ROUND(K25*Maut,2)),"",ROUND(K25*Maut,2)) -> 0 | R28: actual weight | S28: cbm weight | T28: chrbl weight | W28: weightband
I29: Hazard surcharge | K29: =IF(K25="","",IF(K25="out of range","",IF(L2=1,HazSurcharge,0))) -> 0 | L29: =+IF($U$51=1,"Please contact Dachser to check price if applicable, as sizes and/or weight may exceed criteria.","") | Q29: 1 | R29: =G14*C14 -> 50 | S29: =SUM(C14*D14*E14*F14/1000000)*250 -> 240 | W29: 1 | X29: 50 | Y29: 1 | AA29: fuel surcharge:
E30: =IF(OR(CountryCode="BIH",CountryCode="N",CountryCode="SRB",CountryCode="CH"),"Customs Formalities required Please select customs options","") | I30: NES/EX1 Export Customs Docs | K30: =IF(K25="","",IF(K25="out of range","",IF(M2=1,0,25))) -> 0 | Q30: 2 | R30: =G15*C15 -> 0 | S30: =SUM(C15*D15*E15*F15/1000000)*250 -> 0 | W30: =X29+0.00001 -> 50.00001 | X30: 100 | Y30: 2 | AA30: 0.079
I31: Customs clearance costs | K31: =IF(K25="","",IF(K25="out of range","",IF(P2=1,VLOOKUP(J2,Documentation,2,FALSE),0))) -> 0 | Q31: 3 | R31: =G16*C16 -> 0 | S31: =SUM(C16*D16*E16*F16/1000000)*250 -> 0 | W31: =X30+0.00001 -> 100.00001 | X31: 150 | Y31: 3
I32: Total costs (excluding VAT) | K32: =IF(K25="out of range","",SUM(K25:K31)) -> 88.5 | Q32: 4 | R32: =G17*C17 -> 0 | S32: =SUM(C17*D17*E17*F17/1000000)*250 -> 0 | W32: =X31+0.00001 -> 150.00001 | X32: 200 | Y32: 4 | AA32: delivery place: | AB32: =VLOOKUP(J2,ZoneAllocation,12) &" postcodes " & VLOOKUP(J2,ZoneAllocation,2) -> Belgium postcodes 10 - 49, 70 - 99
Q33: 5 | R33: =G18*C18 -> 0 | S33: =SUM(C18*D18*E18*F18/1000000)*250 -> 0 | W33: =X32+0.00001 -> 200.00001 | X33: 250 | Y33: 5
Q34: 6 | R34: =G19*C19 -> 0 | S34: =SUM(C19*D19*E19*F19/1000000)*250 -> 0 | W34: =X33+0.00001 -> 250.00001 | X34: 300 | Y34: 6
C35: *Fuel & currency surcharges will fluctuate on a monthly basis. Please do not hesitate to contact us for the current months surcharge levels. | Q35: 7 | R35: =G20*C20 -> 0 | S35: =SUM(C20*D20*E20*F20/1000000)*250 -> 0 | W35: =X34+0.00001 -> 300.00001 | X35: 400 | Y35: 7
C36: Your attention is drawn to the relevant standard terms and conditions of trading adopted by DACHSER Limited, which are incorporated into any contract entered into by the Company. The relevant standard terms and conditions mean the most recently published edition of BIFA, RHA, CMR AND UKWA. For further information, please go to: www.dachser.com/gb/en/General-Terms-Conditions_315.htm | Q36: totals | R36: =SUM(R29:R35) -> 50 | S36: =SUM(S29:S35) -> 240 | T36: =MAX(R36:S36) -> 240 | W36: =X35+0.00001 -> 400.00001 | X36: 500 | Y36: 8
C37: DACHSER accepts no liability for possible consequences arising in connection with the planned withdrawal of Great Britain from the European Union (Brexit) with regard to the provision of services owed by DACHSER. Should the performance of the contract no longer be possible for DACHSER or only possible under modified conditions, DACHSER expressly reserves the right to make appropriate adjustments or to withdraw-even partially-from the contract. DACHSER shall not be liable for any direct or indirect damage incurred by the contractual partner in connection with Brexit. Contractual partner shall indemnify DACHSER against all costs and damages of any kind (including claims by third parties) incurred by DACHSER in connection with the Brexit to the full extent on first demand. | W37: =X36+0.00001 -> 500.00001 | X37: 600 | Y37: 9
S38: price | T38: =INDEX(TariffTable,VLOOKUP(T36,weightband,3),K2)*IF(ImpExp=1,Exportdiscount,ImportDiscount) -> 79.05 | W38: =X37+0.00001 -> 600.00001 | X38: 700 | Y38: 10
W39: =X38+0.00001 -> 700.00001 | X39: 800 | Y39: 11
W40: =X39+0.00001 -> 800.00001 | X40: 900 | Y40: 12
Q41: weightcheck: | W41: =X40+0.00001 -> 900.00001 | X41: 1000 | Y41: 13
Q42: =D14*E14 -> 9600 | R42: =+D14*E14 -> 9600 | S42: =+F14 -> 100 | T42: =+G14 -> 50 | W42: =X41+0.00001 -> 1000 | X42: 1100 | Y42: 14
Q43: =D15*E15 -> 0 | R43: =+D15*E15 -> 0 | S43: =+F15 -> 0 | T43: =+G15 -> 0 | W43: =X42+0.00001 -> 1100 | X43: 1200 | Y43: 15
Q44: =D16*E16 -> 0 | R44: =+D16*E16 -> 0 | S44: =+F16 -> 0 | T44: =+G16 -> 0 | W44: =X43+0.00001 -> 1200 | X44: 1300 | Y44: 16
Q45: =D17*E17 -> 0 | R45: =+D17*E17 -> 0 | S45: =+F17 -> 0 | T45: =+G17 -> 0 | W45: =X44+0.00001 -> 1300 | X45: 1400 | Y45: 17
Q46: =D18*E18 -> 0 | R46: =+D18*E18 -> 0 | S46: =+F18 -> 0 | T46: =+G18 -> 0 | W46: =X45+0.00001 -> 1400 | X46: 1500 | Y46: 18
Q47: =D19*E19 -> 0 | R47: =+D19*E19 -> 0 | S47: =+F19 -> 0 | T47: =+G19 -> 0 | W47: =X46+0.00001 -> 1500 | X47: 1600 | Y47: 19
...

Sheet Quotation Summary
E1: Date: | F1: =TODAY() -> 44062
A6: QUOTATION SUMMARY
B8: =(VLOOKUP(CountryIndex,CountryCodes,3)) -> Belgium
A9: Country:
B11: =IF(ImpExp=2,VLOOKUP('Entry sheet'!I2,'Grid and variables'!N2:T7,7),'Entry sheet'!E5) -> B1 Postcodes 10 - 49, 70 - 99
A12: Collection from:
B14: =IF(ImpExp=1,VLOOKUP('Entry sheet'!I2,'Grid and variables'!N2:T7,7),'Entry sheet'!E5) -> CB
A15: Delivery to:
A18: CONSIGNMENT DETAILS: | B18: Pcs | C18: Lenght (cm) | D18: Width (cm) | E18: Height (cm) | F18: kgs
B19: =+'Entry sheet'!C14 -> 1 | C19: =+'Entry sheet'!D14 -> 120 | D19: =+'Entry sheet'!E14 -> 80 | E19: =+'Entry sheet'!F14 -> 100 | F19: =+'Entry sheet'!G14 -> 50
B20: =+'Entry sheet'!C15 -> 0 | C20: =+'Entry sheet'!D15 -> 0 | D20: =+'Entry sheet'!E15 -> 0 | E20: =+'Entry sheet'!F15 -> 0 | F20: =+'Entry sheet'!G15 -> 0
B21: =+'Entry sheet'!C16 -> 0 | C21: =+'Entry sheet'!D16 -> 0 | D21: =+'Entry sheet'!E16 -> 0 | E21: =+'Entry sheet'!F16 -> 0 | F21: =+'Entry sheet'!G16 -> 0
B22: =+'Entry sheet'!C17 -> 0 | C22: =+'Entry sheet'!D17 -> 0 | D22: =+'Entry sheet'!E17 -> 0 | E22: =+'Entry sheet'!F17 -> 0 | F22: =+'Entry sheet'!G17 -> 0
B23: =+'Entry sheet'!C18 -> 0 | C23: =+'Entry sheet'!D18 -> 0 | D23: =+'Entry sheet'!E18 -> 0 | E23: =+'Entry sheet'!F18 -> 0 | F23: =+'Entry sheet'!G18 -> 0
B24: =+'Entry sheet'!C19 -> 0 | C24: =+'Entry sheet'!D19 -> 0 | D24: =+'Entry sheet'!E19 -> 0 | E24: =+'Entry sheet'!F19 -> 0 | F24: =+'Entry sheet'!G19 -> 0
A25: Hazardous/Non-Hazardous: | B25: =+IF('Entry sheet'!L2=1,"hazardous","non-hazardous") -> non-hazardous
A27: No. of Pkgs | B27: ='Entry sheet'!$E$21 -> 1 pcs | D27: =+'Entry sheet'!I25 -> Freight charges | F27: ='Entry sheet'!$K$25 -> 79.1
A28: Actual weight | B28: =+'Entry sheet'!R36&" kg" -> 50 kg | D28: =+'Entry sheet'!I26 -> Fuel surcharge | F28: ='Entry sheet'!K26 -> 2.7
A29: Volume | B29: ='Entry sheet'!$F$21 -> 0.96 cbm | D29: Currency surcharge | F29: ='Entry sheet'!K27 -> 6.7
A30: Chargeable weight | B30: ='Entry sheet'!$G$21 -> 240 kg | D30: =+'Entry sheet'!I28 -> Road Tolls | F30: ='Entry sheet'!K28 -> 0
A31: Volume basis 1 cubic metre = 250 kilogrammes | D31: =+'Entry sheet'!I29 -> Hazard surcharge | F31: ='Entry sheet'!K29 -> 0
A32: The quotation is prepared based on the information given and we reserve the right to amend the offfer if the details should change. Price is based on Freight payable in UK. | D32: =+'Entry sheet'!I30 -> NES/EX1 Export Customs Docs | F32: ='Entry sheet'!K30 -> 0
D33: =+'Entry sheet'!I31 -> Customs clearance costs | F33: ='Entry sheet'!K31 -> 0
D34: ='Entry sheet'!I32 -> Total costs (excluding VAT) | F34: ='Entry sheet'!K32 -> 88.5
D35: (subject to VAT at standard rate)
A37: Your attention is drawn to the relevant standard terms and conditions of trading adopted by DACHSER Limited, which are incorporated into any contract entered into by the Company. The relevant standard terms and conditions mean the most recently published edition of BIFA, RHA, CMR AND UKWA. For further information, please go to: www.dachser.com/gb/en/General-Terms-Conditions_315.htm
A38: DACHSER accepts no liability for possible consequences arising in connection with the planned withdrawal of Great Britain from the European Union (Brexit) with regard to the provision of services owed by DACHSER. Should the performance of the contract no longer be possible for DACHSER or only possible under modified conditions, DACHSER expressly reserves the right to make appropriate adjustments or to withdraw-even partially-from the contract. DACHSER shall not be liable for any direct or indirect damage incurred by the contractual partner in connection with Brexit. Contractual partner shall indemnify DACHSER against all costs and damages of any kind (including claims by third parties) incurred by DACHSER in connection with the Brexit to the full extent on first demand.
A41: DACHSER LTD, Unit 35 Edisons Park, Crossways, Dartford DA2 6QN
A44: www.dachser.co.uk
